Workbook

Sheet 【記載の手引き】
B1: （別添様式１）ＤＤｏＳ攻撃事案共通様式
B3: DDoS攻撃事案共通様式
AD4: 年 | AF4: 月 | AH4: 日
AF5: 時 | AH5: 分
B6: （報告先機関の長） | H6: 殿
B11: 以下の報告根拠に基づき、別添のとおり報告いたします。
D12: =IF(COUNTIF(D14:D17, "☑")<=1,"","２つの項目にチェックがあります")
D13: 報告根拠：
D14: □ | E14: 法令等に基づく報告（「本様式の対象となる手続等」から該当手続名を記載すること。）
D17: □ | E17: 上記選択肢以外（自主判断による情報提供を目的とした任意報告等）
E18: ※任意報告の同報先がある場合は、以下に同報先機関を記載すること。
B21: 【報告の区分】 | L21: =IF(AND(Q23="☑",COUNTA(Q24:AA24)<=9), "前回報告日時が未入力です",IF(AND(T23="☑",COUNTA(Q24:AA24)<=9), "前回報告日時が未入力です", ""))
B22: （１）報告の版：第 報
B23: （２）速報/続報/詳報の別： | L23: □ | M23: 速報(新規) | Q23: □ | R23: 続報 | T23: □ | U23: 詳報(確報)
L24: （前回報告： | S24: 年 | U24: 月 | W24: 日 | Y24: 時 | AA24: 分）
L25: （受付番号※： | W25: ）
P26: ※個人情報保護委員会より通知されている場合
C27: 本様式に記載いただいた内容は、報告先機関から、内閣官房国家サイバー統括室に共有されます。内閣官房国家サイバー統括室は、報告された内容を整理分析の上、被害者が分からないようにした上で、被害の拡大防止のため、注意喚起等に活用することがあります。 記載内容の全部又は一部について、内閣官房国家サイバー統括室との共有等を希望しない場合は、その旨及び共有等を希望しない内容について以下に記載してください。
D28: □ | E28: 内閣官房国家サイバー統括室への共有等を希望しない。
C29: 共有等を希望しない内容：
C33: （注）重要電子計算機に対する不正な行為による被害の防止に関する法律第５条に基づく報告である場合は、「共有等を希望しない」とした場合でも、同法に基づき内閣官房国家サイバー統括室等に情報提供されることがあります。
C34: （注）報告を行う者が、重要インフラのサイバーセキュリティに係る行動計画（2022年６月17日サイバーセキュリティ戦略本部決定）に定める重要インフラ事業者等である場合は、同行動計画に基づき、「共有等を希望しない」とした場合でも、内閣官房国家サイバー統括室に共有されることがあります。
B36: １．記載の手引き
B37: （１）本様式の対象となる手続等
B38: 報告根拠に記載する法令、ガイドライン等（重要インフラのサイバーセキュリティに係る行動計画において重要インフラ分野として指定されている分野の法令、ガイドライン等を含む）については、次のウェブサイトに記載。ただし、具体的な提出先や提出方法、追加的な報告事項の有無については、各法令、ガイドラインや、各省庁が公表する方法に従うこと。また、業法等の固有の報告項目については、様式本体の「６．その他特記事項」に記載すること。このほか、警察への相談を行う場合や、その他所管省庁から本様式により報告を行うよう要請等があった場合についても、本様式を利用することができる。
B40: https://www.cyber.go.jp/policy/group/cyber/policy.html
B42: （２）記載事項
B43: 報告をしようとする時点で把握している範囲で、１から６までの内容を記載してください。また、続報として提出する場合には、前回の報告から記載を変更した箇所に下線を引くなど、変更箇所が分かるようにしてください。

Sheet ★様式本体
B5: １．報告者の概要
B6: 報告者の氏名 又は名称 | I6: （フリガナ）
I8: （氏名は旧姓での記載を可とする）
B9: 法人番号（13桁）
B10: 業種・業種番号
B11: 報告者の住所 又は居所 | I11: 〒 -
B13: 代表者の氏名 （報告者が法人等の場合に限る。） | I13: （フリガナ）
I15: （氏名は旧姓での記載を可とする）
B16: 事務連絡者の氏名 | I16: （フリガナ）
I18: （氏名は旧姓での記載を可とする）
I19: 所属部署 | P19: 電話番号
I20: E-mail
B22: ２．事案の概要（業務への影響）
B23: （１）事案の概要
D24: 発生日時： | J24: 年 | L24: 月 | N24: 日 | P24: 時 | R24: 分
D25: 発覚日時： | J25: 年 | L25: 月 | N25: 日 | P25: 時 | R25: 分
B31: （２）重要インフラサービス維持レベルについて（重要インフラのサイバーセキュリティに係る行動計画（2022年６月17日サイバーセキュリティ戦略本部決定）に定める重要インフラ事業者等に該当する場合に記載すること。該当しない場合は記載を要さない。）
B32: ・重要インフラサービスのサービス維持レベルの逸脱の有無： | Q32: □ | R32: 有 | S32: □ | T32: 無
B33: ・他の事業者等への波及の可能性： | L33: =IF(OR(AND(Q32="☑",S32="☑"),AND(Q33="☑",S33="☑")), "有と無にチェックがあります", "") | Q33: □ | R33: 有 | S33: □ | T33: 無
B38: （３）事実経過（時系列）
B46: ３．影響のあるシステム(強化法第５条による報告の場合、特定侵害事象等が発生した特定重要電子計算機について記載)
B52: ４．事案に関する技術的な事項（攻撃技術情報） ※記入可能な項目を記載してください。また、間隔を空けて別種の攻撃（波）がある場合は、攻撃（波）毎に本項目を作成することも可能。
B53: （１）観測期間
B54: 攻撃発生： 月 日 時 分
B55: 攻撃収束： 月 日 時 分
B56: 特記事項：
B58: （２）攻撃類型
C59: ①分類（複数選択）（※選択肢は、MITRE ATT&CKのTechniquesを参照しています。）
C60: □ | E60: ネットワークへのサービス拒否攻撃 Network Denial of Service (T1498) ※以下に記載のT1498-001又はT1498-002のいずれに該当するかが不明な場合
C61: □ | E61: ネットワークへのフラッド攻撃（UDPフラッド攻撃等） Direct Network Flood (T1498-001)
C62: □ | E62: ネットワークへのリフレクション攻撃（DNSリフレクション攻撃等） Reflection Amplification (T1498-002)
C64: □ | E64: エンドポイントへのサービス拒否攻撃 Endpoint Denial of Service (T1499) ※以下に記載のT1499-001からT1499-004までのいずれに該当するかが不明な場合
C65: □ | E65: OS枯渇フラッド（TCPステート枯渇攻撃等） OS Exhaustion Flood (T1499-001)
C66: □ | E66: サービス枯渇フラッド（HTTPフラッド攻撃等） Service Exhaustion Flood (T1499-002)
C67: □ | E67: アプリケーション枯渇フラッド Application Exhaustion Flood (T1499-003)
C68: □ | E68: アプリケーション又はシステムの脆弱性悪用によるサービス妨害攻撃 Application or System Exploitation (T1499-004)
C70: □ | E70: その他（ ） | T70: ）
C71: □ | E71: 不明
C73: ②詳細
B78: （３）通信プロトコル
...

Sheet reference
A1: ■記載の手引き | E1: ddos
A2: 分類 | C2: 項目 | D2: フィールド | E2: reference
A3: 記載の手引き | C3: 報告年月日時分 | D3: 年 | E3: =IF(【記載の手引き】!AC4<>"",【記載の手引き】!AC4,"")&""
D4: 月 | E4: =IF(【記載の手引き】!AE4<>"",【記載の手引き】!AE4,"")&""
D5: 日 | E5: =IF(【記載の手引き】!AG4<>"",【記載の手引き】!AG4,"")&""
D6: 時 | E6: =IF(【記載の手引き】!AE5<>"",【記載の手引き】!AE5,"")&""
D7: 分 | E7: =IF(【記載の手引き】!AG5<>"",【記載の手引き】!AG5,"")&""
C8: 報告根拠 | D8: 法令等に基づく報告：チェック | E8: =【記載の手引き】!D14 -> □
D9: 法令等に基づく報告：手続き名 | E9: =IF(【記載の手引き】!E15<>"",【記載の手引き】!E15,"")&""
D10: 上記選択肢以外：チェック | E10: =【記載の手引き】!D17 -> □
D11: 上記選択肢以外：同報先機関 | E11: =IF(【記載の手引き】!E19<>"",【記載の手引き】!E19,"")&""
C12: 報告の版 | E12: =_xlfn.LET( _xlpm.cell, 【記載の手引き】!B22, _xlpm.startPos, IFERROR(FIND("第", _xlpm.cell), 0), _xlpm.extractStart, IF(_xlpm.startPos=0, 1, _xlpm.startPos+1), _xlpm.endPos, IFERROR(FIND("報", _xlpm.cell, _xlpm.extractStart), 0), _xlpm.rawExtract, IF(_xlpm.endPos=0, "", MID(_xlpm.cell, _xlpm.extractStart, _xlpm.endPos-_xlpm.extractStart)), _xlpm.trimmed, TRIM(SUBSTITUTE(_xlpm.rawExtract, " ", " ")), IF(_xlpm.trimmed="", "", _xlpm.trimmed) )
C13: 速報/続報/詳報の別： | D13: 速報 | E13: =【記載の手引き】!L23 -> □
D14: 続報 | E14: =【記載の手引き】!Q23 -> □
D15: 詳報 | E15: =【記載の手引き】!T23 -> □
C16: 前回報告日 | D16: 年 | E16: =IF(【記載の手引き】!Q24<>"",【記載の手引き】!Q24,"")&""
D17: 月 | E17: =IF(【記載の手引き】!T24<>"",【記載の手引き】!T24,"")&""
D18: 日 | E18: =IF(【記載の手引き】!V24<>"",【記載の手引き】!V24,"")&""
D19: 時 | E19: =IF(【記載の手引き】!X24<>"",【記載の手引き】!X24,"")&""
D20: 分 | E20: =IF(【記載の手引き】!Z24<>"",【記載の手引き】!Z24,"")&""
C21: 受付番号 | E21: =IF(【記載の手引き】!Q25<>"",【記載の手引き】!Q25,"")&""
C22: 内閣官房国家サイバー統括室への共有等を希望しない。 | E22: =【記載の手引き】!D28 -> □
C23: 共有等を希望しない内容 | E23: =IF(【記載の手引き】!E30<>"",【記載の手引き】!E30,"")&""
A25: ■様式本体
A26: 分類 | C26: 項目 | D26: フィールド | E26: reference
A27: １．報告者の概要 | C27: 報告者情報 | D27: 報告者の氏名又は名称 | E27: =IF(★様式本体!I7<>"",★様式本体!I7,"")&""
D28: 報告者の氏名又は名称_フリガナ | E28: =IF(★様式本体!L6<>"",★様式本体!L6,"")&""
D29: 法人番号（13桁） | E29: =IF(★様式本体!I9<>"",★様式本体!I9,"")&""
D30: 業種 | E30: =IF(★様式本体!I10<>"",★様式本体!I10,"")&""
D31: 業種番号 | E31: =IF(★様式本体!R10<>"",★様式本体!R10,"")&""
D32: 報告者の住所又は居所 | E32: =IF(★様式本体!I11<>"",★様式本体!I11,"")&"" -> 〒 -
C33: 代表者情報 | D33: 代表者の氏名 | E33: =IF(★様式本体!I14<>"",★様式本体!I14,"")&""
D34: 代表者の氏名_フリガナ | E34: =IF(★様式本体!L13<>"",★様式本体!L13,"")&""
C35: 事務連絡者情報 | D35: 氏名 | E35: =IF(★様式本体!I17<>"",★様式本体!I17,"")&""
D36: 氏名（フリガナ） | E36: =IF(★様式本体!L16<>"",★様式本体!L16,"")&""
D37: 所属部署 | E37: =IF(★様式本体!K19<>"",★様式本体!K19,"")&""
D38: 電話番号１ | E38: =IF(★様式本体!R19<>"",★様式本体!R19,"")&""
D39: Email | E39: =IF(★様式本体!K20<>"",★様式本体!K20,"")&""
A40: ２．事案の概要（業務への影響） | B40: （１）事案の概要 | C40: 発生日時 | D40: 年 | E40: =IF(★様式本体!I24<>"",★様式本体!I24,"")&""
D41: 月 | E41: =IF(★様式本体!K24<>"",★様式本体!K24,"")&""
...
